BEGIN:VCALENDAR
VERSION:2.0
PRODID:-//ChamberMaster//Event Calendar 2.0//EN
METHOD:PUBLISH
X-PUBLISHED-TTL:P3D
REFRESH-INTERVAL:P3D
CALSCALE:GREGORIAN
BEGIN:VEVENT
DTSTART:20100715T230000Z
DTEND:20100716T020000Z
X-MICROSOFT-CDO-ALLDAYEVENT:FALSE
SUMMARY:Denim and Diamonds Grand Opening Party at the NEW Hyatt Summerfield Suites
DESCRIPTION:You and a Guest are invited to attend the FIRST Annual\n\nDenim & Diamonds Event/Benefit\n\nPlease join us in our upcoming celebration of the recent opening of the\n\nNEW Hyatt Summerfield Suites- Boulder/Broomfield\, Colorado and to support\n\nThe Children?s Hospital Burn Unit and Burn Camp Program!\n\n* Bring your loose change\, checks books and please purchase a Cowboy Hat to add to your Attire\n\nfor only $20*to celebrate our:\n\nHATS OFF to our Opening and\n\nHATS ON to benefit The Children?s Hospital Burn Unit and Burn Camp Program!\n\nEnjoy an Evening of Variety! As much variety as Denim and Diamonds to include?.\n\n* Live Music provided by Strum Therapy\n\n*Tours of the NEW ALL SUITE HOTEL\, S?mores & Champagne (The ultimate Denim and Diamonds\n\nTouch)\, Western Cuisine\, Beer\, Wine\, Sodas\n\n*Fire Trucks and Fire Personnel with a Demo of the North Metro Fire Department?s AARF Truck!\n\n*Learn about our Exclusive Helicopter Packages (Rumors are going around that a ?Love is in the AIR?\n\nRomance Package is one of the many DOOR PRIZES!!!)\n\n*Door Prizes ranging from Denim and Diamonds for our attending Guests!\n\nWhen: Thursday\, July 15\, 2010 from 5:00 P.M. ? 8:00 P.M.\n\nWhere: 13351 W. Midway Blvd.\, Broomfield\, CO 80020 (S/E Corner of Interlocken Loop/Storage Tek\n\nDrive and Via Varra\, (just North on Interlocken Loop\, over the Hwy 36 bridge from the Flatirons\n\nCrossing Mall and we?re on the S/E corner of Via Varra and Storage Tek Drive!)\n\nPlease visit our website at www.broomfield.summerfieldsuites.hyatt.com for a map and further\n\ndirections! We?re too new to be on the map e-sites and we don?t want you delayed because you get\n\nlost!\n\nNeed Further Directions? Just Phone us at: 720-890-4811\n\nATTIRE: Denim on the bottom\, Dressier on the top!\n\nPLEASE RSVP! RSVP?s required no later than 5:00 p.m. - July 10\, 2010\n\nCall Adabel Plazola (Direct) 303-262-9117\n\nWhose Bed SHOULD your boots be under?\n\nThe Hyatt Summerfield Suites? Bed\, that?s whose!\n\n*Check or Cash preferred on the purchase of cowboy hats to add to your
X-ALT-DESC;FMTTYPE=text/html:You and a Guest are invited to attend the FIRST Annual\n<br>Denim &amp\; Diamonds Event/Benefit\n<br>Please join us in our upcoming celebration of the recent opening of the\n<br>NEW Hyatt Summerfield Suites- Boulder/Broomfield\, Colorado and to support\n<br>The Children?s Hospital Burn Unit and Burn Camp Program!\n<br>* Bring your loose change\, checks books and please purchase a Cowboy Hat to add to your Attire\n<br>for only $20*to celebrate our:\n<br>HATS OFF to our Opening and\n<br>HATS ON to benefit The Children?s Hospital Burn Unit and Burn Camp Program!\n<br>Enjoy an Evening of Variety! As much variety as Denim and Diamonds to include?.\n<br>* Live Music provided by Strum Therapy\n<br>*Tours of the NEW ALL SUITE HOTEL\, S?mores &amp\; Champagne (The ultimate Denim and Diamonds\n<br>Touch)\, Western Cuisine\, Beer\, Wine\, Sodas\n<br>*Fire Trucks and Fire Personnel with a Demo of the North Metro Fire Department?s AARF Truck!\n<br>*Learn about our Exclusive Helicopter Packages (Rumors are going around that a ?Love is in the AIR?\n<br>Romance Package is one of the many DOOR PRIZES!!!)\n<br>*Door Prizes ranging from Denim and Diamonds for our attending Guests!\n<br>When: Thursday\, July 15\, 2010 from 5:00 P.M. ? 8:00 P.M.\n<br>Where: 13351 W. Midway Blvd.\, Broomfield\, CO 80020 (S/E Corner of Interlocken Loop/Storage Tek\n<br>Drive and Via Varra\, (just North on Interlocken Loop\, over the Hwy 36 bridge from the Flatirons\n<br>Crossing Mall and we?re on the S/E corner of Via Varra and Storage Tek Drive!)\n<br>Please visit our website at www.broomfield.summerfieldsuites.hyatt.com for a map and further\n<br>directions! We?re too new to be on the map e-sites and we don?t want you delayed because you get\n<br>lost!\n<br>Need Further Directions? Just Phone us at: 720-890-4811\n<br>ATTIRE: Denim on the bottom\, Dressier on the top!\n<br>PLEASE RSVP! RSVP?s required no later than 5:00 p.m. - July 10\, 2010\n<br>Call Adabel Plazola (Direct) 303-262-9117\n<br>Whose Bed SHOULD your boots be under?\n<br>The Hyatt Summerfield Suites? Bed\, that?s whose!\n<br>*Check or Cash preferred on the purchase of cowboy hats to add to your
LOCATION:S/E Corner of Storage Tek Drive and Via Varra\, just North of Flatirons Crossing\, North over the Interlocken Loop Bridge over Hwy 36
UID:e.641.1119
SEQUENCE:3
DTSTAMP:20260420T233707Z
URL:http://business.broomfieldchamber.com/events/details/denim-and-diamonds-grand-opening-party-at-the-new-hyatt-summerfield-suites-07-15-2010-1119
END:VEVENT

END:VCALENDAR
