BEGIN:VCALENDAR
VERSION:2.0
PRODID:-//ChamberMaster//Event Calendar 2.0//EN
METHOD:PUBLISH
X-PUBLISHED-TTL:P3D
REFRESH-INTERVAL:P3D
CALSCALE:GREGORIAN
BEGIN:VEVENT
DTSTART:20120414T150000Z
DTEND:20120414T173000Z
X-MICROSOFT-CDO-ALLDAYEVENT:FALSE
SUMMARY:Denver Metro Beauty Brunch
DESCRIPTION:Reserve your place today for a fun and inspiring morning!  You'll be pampered with the latest Mary Kay products\, receive a full Breakfast buffet\, motivational program\, prizes\, and more!
X-ALT-DESC;FMTTYPE=text/html:<span style="font-size: 16px"><span style="font-family: verdana">Reserve your place today for a fun&nbsp\;and inspiring morning!&nbsp\; You&#39\;ll be pampered with the latest Mary Kay products\, receive a full Breakfast buffet\, motivational program\, prizes\, and more!&nbsp\;</span></span>
LOCATION:Indian Tree Golf Course 7555 Wadsworth Blvd. Arvada\, CO
UID:e.641.3472
SEQUENCE:3
DTSTAMP:20260419T162236Z
URL:http://business.broomfieldchamber.com/events/details/denver-metro-beauty-brunch-04-14-2012-3472
END:VEVENT

END:VCALENDAR
