BEGIN:VCALENDAR
VERSION:2.0
PRODID:-//ChamberMaster//Event Calendar 2.0//EN
METHOD:PUBLISH
X-PUBLISHED-TTL:P3D
REFRESH-INTERVAL:P3D
CALSCALE:GREGORIAN
BEGIN:VEVENT
DTSTART:20110203T020000Z
DTEND:20110203T040000Z
X-MICROSOFT-CDO-ALLDAYEVENT:FALSE
SUMMARY:Denver Pops Orchestra at the Broomfield Auditorium
DESCRIPTION:Culture Affairs presents a new free concert series-Culture Feast. The Denver Pops Orchestra will be Wednesday February 2 at 7pm.
X-ALT-DESC;FMTTYPE=text/html:Culture Affairs presents a new free concert series-Culture Feast. The Denver Pops Orchestra will be Wednesday February 2 at 7pm.
LOCATION:Broomfield Auditorium
UID:e.641.1268
SEQUENCE:3
DTSTAMP:20260420T125102Z
URL:http://business.broomfieldchamber.com/events/details/denver-pops-orchestra-at-the-broomfield-auditorium-02-02-2011-1268
END:VEVENT

END:VCALENDAR
