BEGIN:VCALENDAR
VERSION:2.0
PRODID:-//ChamberMaster//Event Calendar 2.0//EN
METHOD:PUBLISH
X-PUBLISHED-TTL:P3D
REFRESH-INTERVAL:P3D
CALSCALE:GREGORIAN
BEGIN:VEVENT
DTSTART:20111016T010000Z
DTEND:20111016T040000Z
X-MICROSOFT-CDO-ALLDAYEVENT:FALSE
SUMMARY:Denver Roller Dolls @ 1STBANK Center
DESCRIPTION:www.denverrollerdolls.org
X-ALT-DESC;FMTTYPE=text/html:www.denverrollerdolls.org
LOCATION:1STBANK Center
UID:e.641.1430
SEQUENCE:3
DTSTAMP:20260420T005421Z
URL:http://business.broomfieldchamber.com/events/details/denver-roller-dolls-1stbank-center-10-15-2011-1430
END:VEVENT

END:VCALENDAR
