BEGIN:VCALENDAR
VERSION:2.0
PRODID:-//ChamberMaster//Event Calendar 2.0//EN
METHOD:PUBLISH
X-PUBLISHED-TTL:P3D
REFRESH-INTERVAL:P3D
CALSCALE:GREGORIAN
BEGIN:VEVENT
DTSTART:20120222T190000Z
DTEND:20120222T200000Z
X-MICROSOFT-CDO-ALLDAYEVENT:FALSE
SUMMARY:Diabetes: An Epidemic. A Seminar at Living Well Nutrition
DESCRIPTION:We are in an obesity and diabetes epidemic. Both of which are preventable through nutrition.\n\n\n\nJoin us for a COMPLIMENTARY SEMINAR to learn how to:\n\n  Lose weight and maintain it\n\n  Manage blood sugar through the foods you eat\n\n  Get restful sleep every night and learn how important sleep is to blood sugar regulation\n\n  Have sustained energy all day\, without the use of caffeine\n\n  Engage your fat burning hormones\n\n  Why conventional diets don't work for long-term success\n\n   And just feel better!\n\n\n\nThere is a reason we are in an obesity and diabetes epidemic. Learn the latest research and information that's keeping us in a sick world and preventing so many of us from achieving optimal health!
X-ALT-DESC;FMTTYPE=text/html:<strong>We are in an obesity and diabetes epidemic. Both of which are preventable through nutrition.</strong><br />\n<br />\nJoin us for a COMPLIMENTARY SEMINAR to learn how to:<br />\n&bull\; Lose weight and maintain it<br />\n&bull\; Manage blood sugar through the foods you eat<br />\n&bull\; Get restful sleep every night and learn how important sleep is to blood sugar regulation<br />\n&bull\; Have sustained energy all day\, without the use of caffeine<br />\n&bull\; Engage your fat burning hormones<br />\n&bull\; Why conventional diets don&rsquo\;t work for long-term success<br />\n&bull\; &hellip\;And just feel better!<br />\n<br />\n<strong>There is a reason we are in an obesity and diabetes epidemic. Learn the latest research and information that&rsquo\;s keeping us in a sick world and preventing so many of us from achieving optimal health!</strong><br />\n
LOCATION:54 Garden Center Broomfield\, CO 80020 (Major cross streets are Hwy 287 & Midway)
UID:e.641.3225
SEQUENCE:3
DTSTAMP:20260419T193656Z
URL:http://business.broomfieldchamber.com/events/details/diabetes-an-epidemic-a-seminar-at-living-well-nutrition-02-22-2012-3225
END:VEVENT

END:VCALENDAR
