BEGIN:VCALENDAR
VERSION:2.0
PRODID:-//ChamberMaster//Event Calendar 2.0//EN
METHOD:PUBLISH
X-PUBLISHED-TTL:P3D
REFRESH-INTERVAL:P3D
CALSCALE:GREGORIAN
BEGIN:VEVENT
DTSTART:20110716T170000Z
DTEND:20110716T190000Z
X-MICROSOFT-CDO-ALLDAYEVENT:FALSE
SUMMARY:Dog Days of Summer
DESCRIPTION:Guardian Storage Solutions is going to the dogs!\n\n	\n\n	Need to get your dog's vaccinations caught up?  Or maybe you're looking for a new pet to join the family? Then come by for our "Dog Days of Summer!" From adoptions to treats\, we've got it all! \n\n	 \n\n	Some of the dog-friendly companies we'll have include:\n\n	Colorado Canine Rescue\n\n	Castor & Pollux Natural Petworks\n\n	Do You Wanna Treat?\n\n	Canine Rehab and Conditioning Group\n\n	  and more!\n\n	We'll have people treats for everyone to enjoy as well.  This event is FREE and open to the public!
X-ALT-DESC;FMTTYPE=text/html:<p class="MsoNormal" style="line-height: normal\; margin: 0in 0in 0pt">\n	<span lang="EN" style="color: #222222\; font-size: 12pt\; mso-fareast-font-family: 'times new roman'\; mso-bidi-font-family: calibri\; mso-bidi-theme-font: minor-latin\; mso-ansi-language: en">Guardian Storage Solutions is going to the dogs!</span><br />\n	<br />\n	<span style="color: #222222\; font-size: 12pt\; mso-fareast-font-family: 'times new roman'\; mso-bidi-font-family: calibri\; mso-bidi-theme-font: minor-latin">Need to get your dog&rsquo\;s vaccinations caught up?<span style="mso-spacerun: yes">&nbsp\; </span>Or maybe you&rsquo\;re looking for a new pet to join the family? Then come by for our &ldquo\;Dog Days of Summer!&rdquo\; From adoptions to treats\, we&rsquo\;ve got it all!<span style="mso-bidi-font-weight: bold">&nbsp\;</span></span><br />\n	&nbsp\;</p>\n<p class="MsoNormal" style="line-height: normal\; margin: 0in 0in 10pt\; mso-pagination: none\; mso-margin-top-alt: auto\; mso-margin-bottom-alt: auto">\n	<span style="color: #222222\; font-size: 12pt\; mso-fareast-font-family: 'times new roman'\; mso-bidi-font-family: calibri\; mso-bidi-theme-font: minor-latin">Some of the dog-friendly companies we&rsquo\;ll have include:<br />\n	Colorado Canine Rescue<br />\n	Castor &amp\; Pollux Natural Petworks<br />\n	Do You Wanna Treat?<br />\n	Canine Rehab and Conditioning Group<br />\n	&hellip\; and more!<o:p></o:p></span></p>\n<p class="MsoNormal" style="line-height: normal\; margin: 0in 0in 10pt\; mso-pagination: none\; mso-margin-top-alt: auto\; mso-margin-bottom-alt: auto">\n	<span style="color: #222222\; font-size: 12pt\; mso-fareast-font-family: 'times new roman'\; mso-bidi-font-family: calibri\; mso-bidi-theme-font: minor-latin">We&rsquo\;ll have people treats for everyone to enjoy as well.<span style="mso-spacerun: yes">&nbsp\; </span>This event is FREE and open to the public!<span style="mso-bidi-font-weight: bold"><o:p></o:p></span></span></p>\n
LOCATION:Guardian Storage Solutions\, 9241 Wadsworth Blvd\, Westminster\, CO 80021
UID:e.641.2727
SEQUENCE:3
DTSTAMP:20260420T051008Z
URL:http://business.broomfieldchamber.com/events/details/dog-days-of-summer-07-16-2011-2727
END:VEVENT

END:VCALENDAR
