BEGIN:VCALENDAR
VERSION:2.0
PRODID:-//ChamberMaster//Event Calendar 2.0//EN
METHOD:PUBLISH
X-PUBLISHED-TTL:P3D
REFRESH-INTERVAL:P3D
CALSCALE:GREGORIAN
BEGIN:VEVENT
DTSTART:20111206T020000Z
DTEND:20111206T040000Z
X-MICROSOFT-CDO-ALLDAYEVENT:FALSE
SUMMARY:Dotsero and Hazel Miller at the Broomfield Auditorium
DESCRIPTION:Cultural Affairs presents Dotsero and Hazel Miller at the Broomfield Auditorium. Join us for great HolidayJazz.\n\nTickets:  $25 Adults\, $20 Seniors and Students\n\nAvailable on line or at the Box Office\n\n720-887-2317\n\nwww.brownpapertickets.com/event/198911
X-ALT-DESC;FMTTYPE=text/html:Cultural Affairs presents Dotsero and Hazel Miller at the Broomfield Auditorium. Join us for great HolidayJazz.<br />\nTickets:&nbsp\; $25 Adults\, $20 Seniors and Students<br />\nAvailable on line or at the Box Office<br />\n720-887-2317<br />\n<a href="http://www.brownpapertickets.com/event/198911">www.brownpapertickets.com/event/198911</a>
LOCATION:Broomfield Auditorium 3 Community Park Road Broomfield CO 80020
UID:e.641.3084
SEQUENCE:3
DTSTAMP:20260419T223330Z
URL:http://business.broomfieldchamber.com/events/details/dotsero-and-hazel-miller-at-the-broomfield-auditorium-12-05-2011-3084
END:VEVENT

END:VCALENDAR
