BEGIN:VCALENDAR
VERSION:2.0
PRODID:-//ChamberMaster//Event Calendar 2.0//EN
METHOD:PUBLISH
X-PUBLISHED-TTL:P3D
REFRESH-INTERVAL:P3D
CALSCALE:GREGORIAN
BEGIN:VEVENT
DTSTART;VALUE=DATE:20110518
DTEND;VALUE=DATE:20110519
TRANSP:TRANSPARENT
X-MICROSOFT-CDO-ALLDAYEVENT:TRUE
SUMMARY:Dotsero CD Release Concert
DESCRIPTION:Colorado's own Dotsero has released their highly anticipated 11th CD entitled STORYHOUSE 17 tracks of high energy\, contemporary hits moving boldly into the pop underground genre. Within 3 weeks of release\, STORYHOUSE is on the Top Albums & Downloads on CD Baby.com. We are excited to announce the final CD Release concert & meet and greet will be at the Broomfield Auditorium\, Saturday June 11th. Special meet & greet\, signings and photo opps immediately following the concert. All Ages welcome
X-ALT-DESC;FMTTYPE=text/html:Colorado&#39\;s own Dotsero has released their highly anticipated 11th CD entitled STORYHOUSE 17 tracks of high energy\, contemporary hits moving boldly into the pop underground genre. Within 3 weeks of release\, STORYHOUSE is on the Top Albums &amp\; Downloads on CD Baby.com. We are excited to announce the final CD Release concert &amp\; meet and greet will be at the Broomfield Auditorium\, Saturday June 11th. Special meet &amp\; greet\, signings and photo opps immediately following the concert. All Ages welcome 
LOCATION:Broomfield Auditorium
UID:e.641.1478
SEQUENCE:3
DTSTAMP:20260420T093241Z
URL:http://business.broomfieldchamber.com/events/details/dotsero-cd-release-concert-05-18-2011-1478
END:VEVENT

END:VCALENDAR
