BEGIN:VCALENDAR
VERSION:2.0
PRODID:-//ChamberMaster//Event Calendar 2.0//EN
METHOD:PUBLISH
X-PUBLISHED-TTL:P3D
REFRESH-INTERVAL:P3D
CALSCALE:GREGORIAN
BEGIN:VEVENT
DTSTART:20101016T160000Z
DTEND:20101016T220000Z
X-MICROSOFT-CDO-ALLDAYEVENT:FALSE
SUMMARY:Driving Force Indoor Driving Range Grand Opening
DESCRIPTION:Driving Force is celebrating it's grand opening with golf and fitness clinics\, 5 minute video lessons\, giveaways\, food\, a jumpy castle for the kids and more!
X-ALT-DESC;FMTTYPE=text/html:Driving Force is celebrating it's grand opening with golf and fitness clinics\, 5 minute video lessons\, giveaways\, food\, a jumpy castle for the kids and more!
LOCATION:11705 Teller St
UID:e.641.1216
SEQUENCE:3
DTSTAMP:20260420T190603Z
URL:http://business.broomfieldchamber.com/events/details/driving-force-indoor-driving-range-grand-opening-10-16-2010-1216
END:VEVENT

END:VCALENDAR
