BEGIN:VCALENDAR
VERSION:2.0
PRODID:-//ChamberMaster//Event Calendar 2.0//EN
METHOD:PUBLISH
X-PUBLISHED-TTL:P3D
REFRESH-INTERVAL:P3D
CALSCALE:GREGORIAN
BEGIN:VEVENT
DTSTART:20110610T180000Z
DTEND:20110611T230000Z
X-MICROSOFT-CDO-ALLDAYEVENT:FALSE
SUMMARY:Dynamite Divas 2nd Annual Spring Women?s Expo to Support Women-Owned Businesses & to Ben
DESCRIPTION:Fri. 12-8pm & Sat. 10am-5pm Dynamite Divas is hosting its 2nd annual Spring Women's Expo to provide female entrepreneurs with a powerful vendor expo & educational forum. Vendor booths will include wide array of products & services available for sale by Colorado business women. Prominent business women speakers will talk on empowerment topics. Women\, men and kids invited to shop learn and have fun!
X-ALT-DESC;FMTTYPE=text/html:Fri. 12-8pm &amp\; Sat. 10am-5pm Dynamite Divas is hosting its 2nd annual Spring Women&rsquo\;s Expo to provide female entrepreneurs with a powerful vendor expo &amp\; educational forum. Vendor booths will include wide array of products &amp\; services available for sale by Colorado business women. Prominent business women speakers will talk on empowerment topics. Women\, men and kids invited to shop&hellip\;learn&hellip\;and have fun!
LOCATION:Noah's Event Center\, 11881 N. Bradburn Blvd.\, Westminster
UID:e.641.1486
SEQUENCE:3
DTSTAMP:20260420T063831Z
URL:http://business.broomfieldchamber.com/events/details/dynamite-divas-2nd-annual-spring-women-s-expo-to-support-women-owned-businesses-to-ben-06-10-2011-1486
END:VEVENT

END:VCALENDAR
