BEGIN:VCALENDAR
VERSION:2.0
PRODID:-//ChamberMaster//Event Calendar 2.0//EN
METHOD:PUBLISH
X-PUBLISHED-TTL:P3D
REFRESH-INTERVAL:P3D
CALSCALE:GREGORIAN
BEGIN:VEVENT
DTSTART:20100413T150000Z
DTEND:20100413T210000Z
X-MICROSOFT-CDO-ALLDAYEVENT:FALSE
SUMMARY:Earth Day Festival!
DESCRIPTION:Prime West at 380 and 390 Interlocken is hosting an Earth Day Festival. We are looking for"Green" related businesses set up displays in the lobbies of our buildings. We have over 1300 people in these buildings and are looking for approximately 10-15 vendors to set up displays. The event is on Earth Day April 22. Please call me at 303-460-1678.\n\nThanks
X-ALT-DESC;FMTTYPE=text/html:Prime West at 380 and 390 Interlocken is hosting an Earth Day Festival. We are looking for"Green" related businesses set up displays in the lobbies of our buildings. We have over 1300 people in these buildings and are looking for approximately 10-15 vendors to set up displays. The event is on Earth Day April 22. Please call me at 303-460-1678.\n<br>Thanks
LOCATION:Lobbies of 380 and 390 Interlocken\, Broomfield
UID:e.641.1025
SEQUENCE:3
DTSTAMP:20260421T040911Z
URL:http://business.broomfieldchamber.com/events/details/earth-day-festival-04-13-2010-1025
END:VEVENT

END:VCALENDAR
