BEGIN:VCALENDAR
VERSION:2.0
PRODID:-//ChamberMaster//Event Calendar 2.0//EN
METHOD:PUBLISH
X-PUBLISHED-TTL:P3D
REFRESH-INTERVAL:P3D
CALSCALE:GREGORIAN
BEGIN:VEVENT
DTSTART:20101002T010000Z
DTEND:20101002T030000Z
X-MICROSOFT-CDO-ALLDAYEVENT:FALSE
SUMMARY:End of Sides: Kailin Yong and Jeff Jenkins
DESCRIPTION:?End of Sides? features a piano/violin duo that breaks down musical barriers. Fiddler for Peace\, Kailin Yong met jazz piano giant\, Jeff Jenkins in the summer of 2009 and their instant connection extended beyond their stylistic\n\ncompatibility. They began to collaborate and discovered their mutual musical intent to build bridges between people\, communities and cultures.\n\nThis resulted in a unique collaboration of improvisation based on their original compositions which address love\, healing\, surrender and hope. Jeff and Kailin take turns leading the audience and each other through a musical\n\nlandscape of adventure and honesty with no boundaries. Please join us for this evening of compelling music with two of the regions best loved artists.
X-ALT-DESC;FMTTYPE=text/html:?End of Sides? features a piano/violin duo that breaks down musical barriers. Fiddler for Peace\, Kailin Yong met jazz piano giant\, Jeff Jenkins in the summer of 2009 and their instant connection extended beyond their stylistic\n<br>compatibility. They began to collaborate and discovered their mutual musical intent to build bridges between people\, communities and cultures.\n<br>This resulted in a unique collaboration of improvisation based on their original compositions which address love\, healing\, surrender and hope. Jeff and Kailin take turns leading the audience and each other through a musical\n<br>landscape of adventure and honesty with no boundaries. Please join us for this evening of compelling music with two of the regions best loved artists.
LOCATION:Broomfield Auditorium 3 Community Park Road
UID:e.641.1183
SEQUENCE:3
DTSTAMP:20260420T190922Z
URL:http://business.broomfieldchamber.com/events/details/end-of-sides-kailin-yong-and-jeff-jenkins-10-01-2010-1183
END:VEVENT

END:VCALENDAR
