BEGIN:VCALENDAR
VERSION:2.0
PRODID:-//ChamberMaster//Event Calendar 2.0//EN
METHOD:PUBLISH
X-PUBLISHED-TTL:P3D
REFRESH-INTERVAL:P3D
CALSCALE:GREGORIAN
BEGIN:VEVENT
DTSTART:20120428T160000Z
DTEND:20120428T170000Z
X-MICROSOFT-CDO-ALLDAYEVENT:FALSE
SUMMARY:Engage Your Fat Burning Hormones: A Seminar at Living Well Nutrition
DESCRIPTION:Summer is coming fast now! What are your health goals? Are you wanting to get bathing suit ready\, but need a little support?  Got stubborn belly fat that just wont go away?  Tired of not fitting in your shorts and tank tops?\n\n\n\nThen don't miss this robust 1-hour COMPLIMENTARY WEIGHT LOSS SEMINAR!\n\n\n\nYou are going to learn how to get your body into FAT BURNING MODE and finally lose that excess weight and keep it off! Say "no" to fad diets--learn how you can revitalize your own metabolism.\n\nWant more energy\, better brain power\, and to regain your vitality? Learn what foods help to manage stress and enhance brain power.\n\n\n\nSeating is limited\, so you must register by calling (303) 466-3232 or by going to www.BurnFatBroomfield.com.\n\n\n\n**Attend this Seminar\, and get put into a drawing for a 1-hour Inch-loss\, and Cellulite Reduction Body Wrap!
X-ALT-DESC;FMTTYPE=text/html:<strong>Summer is coming fast now! What are your health goals? Are you wanting to get bathing suit ready\, but need a little support?&nbsp\; Got stubborn belly fat that just wont go away?&nbsp\; Tired of not fitting in your shorts and tank tops?</strong><br />\n<br />\n<u>Then don&#39\;t miss this robust 1-hour COMPLIMENTARY WEIGHT LOSS SEMINAR!</u><br />\n<br />\nYou are going to learn how to get your body into FAT BURNING MODE and finally lose that excess weight and keep it off! Say &quot\;no&quot\; to fad diets--learn how you can revitalize your own metabolism.<br />\nWant more energy\, better brain power\, and to regain your vitality? Learn what foods help to manage stress and enhance brain power.<br />\n<br />\nSeating is limited\, so you must register by calling (303) 466-3232 or by going to www.BurnFatBroomfield.com.<br />\n<br />\n**Attend this Seminar\, and get put into a drawing for a 1-hour Inch-loss\, and Cellulite Reduction Body Wrap!
LOCATION:54 Garden Center Broomfield CO 80020 (Major cross streets are Hwy 287 & Midway)
UID:e.641.4006
SEQUENCE:3
DTSTAMP:20260419T162701Z
URL:http://business.broomfieldchamber.com/events/details/engage-your-fat-burning-hormones-a-seminar-at-living-well-nutrition-04-28-2012-4006
END:VEVENT

END:VCALENDAR
