BEGIN:VCALENDAR
VERSION:2.0
PRODID:-//ChamberMaster//Event Calendar 2.0//EN
METHOD:PUBLISH
X-PUBLISHED-TTL:P3D
REFRESH-INTERVAL:P3D
CALSCALE:GREGORIAN
BEGIN:VEVENT
DTSTART:20111023T150000Z
DTEND:20111023T230000Z
X-MICROSOFT-CDO-ALLDAYEVENT:FALSE
SUMMARY:Engaging Harms Touch - A Self Care and Wellness Retreat
DESCRIPTION:A SELF CARE AND WELLNESS RETREAT FOR PROFESSIONALS WHO ASSIST SURVIVORS OF INTERPERSONAL VIOLENCE\n\n\nIn honor of Domestic Violence Awareness Month\, Safehouse Progressive Alliance for Nonviolence (SPAN) will be hosting an event to support professionals who assist survivors of interpersonal violence.  A full day of experiential workshops will include meditation\, creative art projects\, homeopathy and more.\n\n\n\nThis October we are not only honoring the victims and survivors of domestic violence\, we are honoring people who continue to offer support. compassion and energy to those impacted by trauma.\n\n\n\nIf you would like to sponsor a helping professional or make a donation of supplies\, or food to help nurturer the spirit of those who continue to serve victims of violence on this day of self care and wellness\, please contact: chelsea@safehousealliance.org.
X-ALT-DESC;FMTTYPE=text/html:<h2>\n	<span style="font-family: arial">A SELF CARE AND WELLNESS RETREAT FOR PROFESSIONALS WHO ASSIST SURVIVORS OF INTERPERSONAL VIOLENCE</span></h2>\n<br />\nIn honor of Domestic Violence Awareness Month\, Safehouse Progressive Alliance for Nonviolence (SPAN) will be hosting an event to support professionals who assist survivors of interpersonal violence.&nbsp\; A full day of experiential workshops will include meditation\, creative art projects\, homeopathy and more.<br />\n<br />\nThis October we are not only honoring the victims and survivors of domestic violence\, we are honoring people who continue to offer support. compassion and energy to those impacted by trauma.<br />\n<br />\nIf you would like to sponsor a helping professional or make a donation of supplies\, or food to help nurturer the spirit of those who continue to serve victims of violence on this day of self care and wellness\, please contact: chelsea@safehousealliance.org.
LOCATION:835 North St. Boulder\, Colorado
UID:e.641.3078
SEQUENCE:3
DTSTAMP:20260420T010023Z
URL:http://business.broomfieldchamber.com/events/details/engaging-harms-touch-a-self-care-and-wellness-retreat-10-23-2011-3078
END:VEVENT

END:VCALENDAR
