BEGIN:VCALENDAR
VERSION:2.0
PRODID:-//ChamberMaster//Event Calendar 2.0//EN
METHOD:PUBLISH
X-PUBLISHED-TTL:P3D
REFRESH-INTERVAL:P3D
CALSCALE:GREGORIAN
BEGIN:VEVENT
DTSTART:20110219T200000Z
DTEND:20110219T210000Z
X-MICROSOFT-CDO-ALLDAYEVENT:FALSE
SUMMARY:Enlightenment Journeys-Regina Sara Ryan
DESCRIPTION:Author Regina Sara Ryan discusses her book Igniting the Inner Life. The inner life is the intrinsic spiritual dimension of existence. To ?ignite? it is to make a pilgrimage within?to move from ?out there? to ?in here? in the orientation of life\, work\, choices and relationships. This book is directed to those with a focus on spirituality\, self-understanding\, contemplative prayer\, God\, or the awakening of the heart?s knowledge\,\n\nregardless of the religious tradition they follow.
X-ALT-DESC;FMTTYPE=text/html:Author Regina Sara Ryan discusses her book Igniting the Inner Life. The inner life is the intrinsic spiritual dimension of existence. To ?ignite? it is to make a pilgrimage within?to move from ?out there? to ?in here? in the orientation of life\, work\, choices and relationships. This book is directed to those with a focus on spirituality\, self-understanding\, contemplative prayer\, God\, or the awakening of the heart?s knowledge\,\n<br>regardless of the religious tradition they follow.
LOCATION:Mamie Doud Eisenhower Public Library\, Eisenhower Room
UID:e.641.1320
SEQUENCE:3
DTSTAMP:20260420T142405Z
URL:http://business.broomfieldchamber.com/events/details/enlightenment-journeys-regina-sara-ryan-02-19-2011-1320
END:VEVENT

END:VCALENDAR
