BEGIN:VCALENDAR
VERSION:2.0
PRODID:-//ChamberMaster//Event Calendar 2.0//EN
METHOD:PUBLISH
X-PUBLISHED-TTL:P3D
REFRESH-INTERVAL:P3D
CALSCALE:GREGORIAN
BEGIN:VEVENT
DTSTART:20100424T160000Z
DTEND:20100424T200000Z
X-MICROSOFT-CDO-ALLDAYEVENT:FALSE
SUMMARY:Entrepreneur's Mother's Day Event
DESCRIPTION:Great opportunity to meet and learn about local women owned businesses while shopping for Mother's Day gifts.
X-ALT-DESC;FMTTYPE=text/html:Great opportunity to meet and learn about local women owned businesses while shopping for Mother's Day gifts.  
LOCATION:11853 Pecos St.\, Westminster\, CO (in the White Ranch House)
UID:e.641.1012
SEQUENCE:3
DTSTAMP:20260421T040700Z
URL:http://business.broomfieldchamber.com/events/details/entrepreneur-s-mother-s-day-event-04-24-2010-1012
END:VEVENT

END:VCALENDAR
