BEGIN:VCALENDAR
VERSION:2.0
PRODID:-//ChamberMaster//Event Calendar 2.0//EN
METHOD:PUBLISH
X-PUBLISHED-TTL:P3D
REFRESH-INTERVAL:P3D
CALSCALE:GREGORIAN
BEGIN:VEVENT
DTSTART:20111008T151500Z
DTEND:20111008T170000Z
X-MICROSOFT-CDO-ALLDAYEVENT:FALSE
SUMMARY:Estate Planning and Long Term Care Seminar
DESCRIPTION:Join us for a FREE seminar on Living Trusts\, Elder Financial Abuse\, and Long Term Care needs.\n\n\n\nEvent is sponsored by Remington Law Offices\, LLC and Armstrong Financial Services.  This event is open to the public\, but seating is limited.  Call to reserve your seat.
X-ALT-DESC;FMTTYPE=text/html:Join us for a FREE seminar on Living Trusts\, Elder Financial Abuse\, and Long Term Care needs.<br />\n<br />\nEvent is sponsored by Remington Law Offices\, LLC and Armstrong Financial Services.&nbsp\; This&nbsp\;event is open to the public\, but seating is limited.&nbsp\; Call&nbsp\;to reserve your seat.&nbsp\;
LOCATION:First National Bank 12009 Sheridan Boulevard\, Broomfield\, CO 80020
UID:e.641.3056
SEQUENCE:3
DTSTAMP:20260420T021338Z
URL:http://business.broomfieldchamber.com/events/details/estate-planning-and-long-term-care-seminar-10-08-2011-3056
END:VEVENT

END:VCALENDAR
