BEGIN:VCALENDAR
VERSION:2.0
PRODID:-//ChamberMaster//Event Calendar 2.0//EN
METHOD:PUBLISH
X-PUBLISHED-TTL:P3D
REFRESH-INTERVAL:P3D
CALSCALE:GREGORIAN
BEGIN:VEVENT
DTSTART:20110507T160000Z
DTEND:20110507T220000Z
X-MICROSOFT-CDO-ALLDAYEVENT:FALSE
SUMMARY:Event at 3D Vision Eye Care
DESCRIPTION:You are cordially invited to our Health Fair\, Annual Frame Expo & Open House!\n\n	On May 7th\n\n	10 am to 4 pm\n\n	Scrumptious Refreshments to be served!!\n\n	Health Fair to include screenings from 3D Vision Eye Care\, The Natural Place\, and Amherst Park Family Dental\, as well as FREE Chair Massages from Elements Massage Therapy & FREE Lasik consults from TLC!\n\n	ENTER TO WIN a multitude of prizes including a FREE pair of Maui Jim prescription sunglasses with purchase of eyewear. (Up to a $900 value)\n\n	Have an eye exam during the Open House and receive $20 OFF your optical purchase. (Appointments recommended) \n\n	\n\n	COME SEE OUT NEW SPRING EYE WEAR COLLECTION!!!!\n\n	We have tons of NEW glasses and sunglasses in already carried brands as well as BRAND NEW LINES such as:\n\n	  Ray Ban\n\n	  Tommy Hilfger\n\n	  Serengeti\n\n	  Bolle\n\n	  Dita\n\n	Fabulous specials on Sunglasses as it is the PERFECT time for treating yourself before summer (a great way to use your FLEX/HSA)! GOING TO BE A GREAT TIME\, so what are you waiting for??? Put 3D Vision on your schedule for Saturday!
X-ALT-DESC;FMTTYPE=text/html:<p align="center" class="MsoNormal" style="text-align: center\; margin: 0in 0in 0pt">\n	<span class="messageBody"><b><i><span style="font-family: 'georgia'\, 'serif'\; color: #e36c0a\; font-size: 20pt">You</span></i></b><b><i><span style="font-family: 'georgia'\, 'serif'\; color: #1f497d\; font-size: 20pt"> </span></i></b><b><i><span style="font-family: 'georgia'\, 'serif'\; color: #e36c0a\; font-size: 20pt">are cordially invited to our Health Fair\, Annual Frame Expo &amp\; Open House!<o:p></o:p></span></i></b></span></p>\n<p align="center" class="MsoNormal" style="text-align: center\; margin: 0in 0in 0pt">\n	<span class="messageBody"><b><i><span style="font-family: 'georgia'\, 'serif'\; color: #cc3399\; font-size: 14pt">On</span></i></b><b><i><span style="font-family: 'georgia'\, 'serif'\; color: #cc3399\; font-size: 24pt"> May 7<sup>th</sup><o:p></o:p></span></i></b></span></p>\n<p align="center" class="MsoNormal" style="text-align: center\; margin: 0in 0in 0pt">\n	<span class="messageBody"><b><i><span style="font-family: 'georgia'\, 'serif'\; color: #cc3399\; font-size: 24pt">10</span></i></b><b><i><span style="font-family: 'georgia'\, 'serif'\; color: #1f497d\; font-size: 24pt"> </span></i></b><b><i><span style="font-family: 'georgia'\, 'serif'\; color: #cc3399\; font-size: 24pt">am to 4 pm<o:p></o:p></span></i></b></span></p>\n<p align="center" class="MsoNormal" style="text-align: center\; margin: 0in 0in 0pt">\n	<span class="messageBody"><b><i><span style="color: #548dd4\; font-size: 28pt"><font face="Calibri">Scrumptious Refreshments to be served!!<o:p></o:p></font></span></i></b></span></p>\n<p class="MsoNormal" style="margin: 0in 0in 0pt">\n	<span class="messageBody"><span style="font-family: 'segoe script'\, 'sans-serif'\; color: #7030a0\; font-size: 20pt">Health Fair to include screenings from 3D Vision Eye Care\, The Natural Place\, and Amherst Park Family Dental</span><span style="font-family: 'segoe script'\, 'sans-serif'\; color: #1f497d\; font-size: 20pt">\,</span><span style="font-family: 'segoe script'\, 'sans-serif'\; color: #7030a0\; font-size: 20pt"> as well as </span><span style="font-family: 'segoe script'\, 'sans-serif'\; color: red\; font-size: 20pt">FREE</span><span style="font-family: 'segoe script'\, 'sans-serif'\; color: #7030a0\; font-size: 20pt"> Chair Massages from Elements Massage Therapy &amp\; </span><span style="font-family: 'segoe script'\, 'sans-serif'\; color: red\; font-size: 20pt">FREE</span><span style="font-family: 'segoe script'\, 'sans-serif'\; color: #7030a0\; font-size: 20pt"> Lasik </span><span style="font-family: 'segoe script'\, 'sans-serif'\; color: #5f497a\; font-size: 20pt">c</span><span style="font-family: 'segoe script'\, 'sans-serif'\; color: #7030a0\; font-size: 20pt">onsults from TLC!<o:p></o:p></span></span></p>\n<p class="MsoNormal" style="margin: 0in 0in 0pt">\n	<span class="messageBody"><b><span style="font-family: 'vijaya'\, 'sans-serif'\; color: #76923c\; font-size: 26pt">ENTER TO WIN a multitude of prizes including</span></b><b><span style="font-family: 'vijaya'\, 'sans-serif'\; color: #1f497d\; font-size: 26pt"> </span></b><b><span style="font-family: 'vijaya'\, 'sans-serif'\; color: #76923c\; font-size: 26pt">a </span></b><b><span style="font-family: 'vijaya'\, 'sans-serif'\; color: red\; font-size: 26pt">FREE</span></b><b><span style="font-family: 'vijaya'\, 'sans-serif'\; color: #76923c\; font-size: 26pt"> pair of Maui Jim prescription sunglasses with purchase of eyewear. </span></b><b><span style="font-family: 'vijaya'\, 'sans-serif'\; color: red\; font-size: 22pt">(Up to a $900 value)</span></b><b><span style="font-family: 'vijaya'\, 'sans-serif'\; color: #76923c\; font-size: 26pt"><o:p></o:p></span></b></span></p>\n<p class="MsoNormal" style="margin: 0in 0in 0pt">\n	<span class="messageBody"><b><i><span style="font-family: 'times new roman'\, 'serif'\; font-size: 18pt"><font color="#000000" face="Times New Roman">Have an eye exam during the Open House and receive </font></span></i></b><b><i><span style="font-family: 'times new roman'\, 'serif'\; color: #c00000\; font-size: 20pt">$20 OFF</span></i></b><font color="#000000"><b><i><span style="font-family: 'times new roman'\, 'serif'\; font-size: 18pt"> your optical purchase. </span></i></b><b><i><span style="font-family: 'times new roman'\, 'serif'\; font-size: 12pt">(Appointments recommended) <o:p></o:p></span></i></b></font></span></p>\n<p class="MsoNormal" style="margin: 0in 0in 0pt">\n	<br />\n	<span class="messageBody"><span style="font-family: 'segoe script'\, 'sans-serif'\; color: red\; font-size: 14pt">COME SEE OUT NEW SPRING EYE WEAR COLLECTION!!!!<o:p></o:p></span></span></p>\n<p align="center" class="MsoNormal" style="text-align: center\; margin: 0in 0in 0pt">\n	<span class="messageBody"><b><span style="font-family: 'segoe script'\, 'sans-serif'\; font-size: 14pt"><font color="#000000">We have tons of NEW glasses and sunglasses in already carried brands as well as BRAND NEW LINES such as:<o:p></o:p></font></span></b></span></p>\n<p align="center" class="MsoListParagraph" style="text-align: center\; text-indent: -0.25in\; margin: 0in 0in 0pt 0.25in\; mso-list: l0 level1 lfo1">\n	<span class="messageBody"><font color="#000000"><span style="font-family: wingdings\; font-size: 14pt\; mso-fareast-font-family: wingdings\; mso-bidi-font-family: wingdings\; mso-bidi-font-weight: bold"><span style="mso-list: ignore">&Oslash\;<span style="font: 7pt 'times new roman'"> </span></span></span><b><span style="font-family: 'segoe script'\, 'sans-serif'\; font-size: 14pt">Ray Ban<o:p></o:p></span></b></font></span></p>\n<p align="center" class="MsoListParagraph" style="text-align: center\; text-indent: -0.25in\; margin: 0in 0in 0pt 0.25in\; mso-list: l0 level1 lfo1">\n	<span class="messageBody"><font color="#000000"><span style="font-family: wingdings\; font-size: 14pt\; mso-fareast-font-family: wingdings\; mso-bidi-font-family: wingdings\; mso-bidi-font-weight: bold"><span style="mso-list: ignore">&Oslash\;<span style="font: 7pt 'times new roman'"> </span></span></span><b><span style="font-family: 'segoe script'\, 'sans-serif'\; font-size: 14pt">Tommy Hilfger<o:p></o:p></span></b></font></span></p>\n<p align="center" class="MsoListParagraph" style="text-align: center\; text-indent: -0.25in\; margin: 0in 0in 0pt 0.25in\; mso-list: l0 level1 lfo1">\n	<span class="messageBody"><font color="#000000"><span style="font-family: wingdings\; font-size: 14pt\; mso-fareast-font-family: wingdings\; mso-bidi-font-family: wingdings\; mso-bidi-font-weight: bold"><span style="mso-list: ignore">&Oslash\;<span style="font: 7pt 'times new roman'"> </span></span></span><b><span style="font-family: 'segoe script'\, 'sans-serif'\; font-size: 14pt">Serengeti<o:p></o:p></span></b></font></span></p>\n<p align="center" class="MsoListParagraph" style="text-align: center\; text-indent: -0.25in\; margin: 0in 0in 0pt 0.25in\; mso-list: l0 level1 lfo1">\n	<span class="messageBody"><font color="#000000"><span style="font-family: wingdings\; font-size: 14pt\; mso-fareast-font-family: wingdings\; mso-bidi-font-family: wingdings\; mso-bidi-font-weight: bold"><span style="mso-list: ignore">&Oslash\;<span style="font: 7pt 'times new roman'"> </span></span></span><b><span style="font-family: 'segoe script'\, 'sans-serif'\; font-size: 14pt">Bolle<o:p></o:p></span></b></font></span></p>\n<p align="center" class="MsoListParagraph" style="text-align: center\; text-indent: -0.25in\; margin: 0in 0in 0pt 0.25in\; mso-list: l0 level1 lfo1">\n	<span class="messageBody"><font color="#000000"><span style="font-family: wingdings\; font-size: 14pt\; mso-fareast-font-family: wingdings\; mso-bidi-font-family: wingdings\; mso-bidi-font-weight: bold"><span style="mso-list: ignore">&Oslash\;<span style="font: 7pt 'times new roman'"> </span></span></span><b><span style="font-family: 'segoe script'\, 'sans-serif'\; font-size: 14pt">Dita<o:p></o:p></span></b></font></span></p>\n<p class="MsoNormal" style="margin: 0in 0in 0pt">\n	<span class="messageBody"><strong>Fabulous specials on Sunglasses as it is the&nbsp\;PERFECT time for treating yourself before summer (a great way to use your FLEX/HSA)! GOING TO BE A GREAT TIME\, so what are you waiting for??? Put 3D Vision on your schedule for Saturday!</strong></span></p>\n
LOCATION:5760 W. 120th Ave Ste 240 Broomfield\, CO 80020
UID:e.641.1463
SEQUENCE:3
DTSTAMP:20260420T075734Z
URL:http://business.broomfieldchamber.com/events/details/event-at-3d-vision-eye-care-05-07-2011-1463
END:VEVENT

END:VCALENDAR
