BEGIN:VCALENDAR
VERSION:2.0
PRODID:-//ChamberMaster//Event Calendar 2.0//EN
METHOD:PUBLISH
X-PUBLISHED-TTL:P3D
REFRESH-INTERVAL:P3D
CALSCALE:GREGORIAN
BEGIN:VEVENT
DTSTART;VALUE=DATE:20100719
DTEND;VALUE=DATE:20100720
TRANSP:TRANSPARENT
X-MICROSOFT-CDO-ALLDAYEVENT:TRUE
SUMMARY:Event at A Precious Child\, Inc.
DESCRIPTION:GOLF FOR A PRECIOUS CHILD\n\nAll proceeds benefit local children in needs.\n\n\n\nVisit www.apreciouschild.org for more information!
X-ALT-DESC;FMTTYPE=text/html:GOLF FOR A PRECIOUS CHILD\n<br>All proceeds benefit local children in needs.\n<br>\n<br>Visit www.apreciouschild.org for more information!
LOCATION:Omni Interlocken Golf Club
UID:e.641.1104
SEQUENCE:3
DTSTAMP:20260421T010250Z
URL:http://business.broomfieldchamber.com/events/details/event-at-a-precious-child-inc-07-19-2010-1104
END:VEVENT

END:VCALENDAR
