BEGIN:VCALENDAR
VERSION:2.0
PRODID:-//ChamberMaster//Event Calendar 2.0//EN
METHOD:PUBLISH
X-PUBLISHED-TTL:P3D
REFRESH-INTERVAL:P3D
CALSCALE:GREGORIAN
BEGIN:VEVENT
DTSTART;VALUE=DATE:20100515
DTEND;VALUE=DATE:20100516
TRANSP:TRANSPARENT
X-MICROSOFT-CDO-ALLDAYEVENT:TRUE
SUMMARY:Event at Abbott's Frozen Custard
DESCRIPTION:Grand Opening \n\nKOSI 101.1 will be present from 2PM - 4PM
X-ALT-DESC;FMTTYPE=text/html:Grand Opening \n<br>KOSI 101.1 will be present from 2PM - 4PM
LOCATION:2205 W. 136th Ave\, Quail Creek Shopping Plaza\, Broomfield
UID:e.641.1045
SEQUENCE:3
DTSTAMP:20260421T023539Z
URL:http://business.broomfieldchamber.com/events/details/event-at-abbott-s-frozen-custard-05-15-2010-1045
END:VEVENT

END:VCALENDAR
