BEGIN:VCALENDAR
VERSION:2.0
PRODID:-//ChamberMaster//Event Calendar 2.0//EN
METHOD:PUBLISH
X-PUBLISHED-TTL:P3D
REFRESH-INTERVAL:P3D
CALSCALE:GREGORIAN
BEGIN:VEVENT
DTSTART:20100330T133000Z
DTEND:20100330T150000Z
X-MICROSOFT-CDO-ALLDAYEVENT:FALSE
SUMMARY:Event at Action Coach ~
DESCRIPTION:Time Management Seminar
X-ALT-DESC;FMTTYPE=text/html:Time Management Seminar
LOCATION:950 Cherry Street\, Louisville\, CO 80027
UID:e.641.595
SEQUENCE:3
DTSTAMP:20260421T055554Z
URL:http://business.broomfieldchamber.com/events/details/event-at-action-coach-03-30-2010-595
END:VEVENT

END:VCALENDAR
