BEGIN:VCALENDAR
VERSION:2.0
PRODID:-//ChamberMaster//Event Calendar 2.0//EN
METHOD:PUBLISH
X-PUBLISHED-TTL:P3D
REFRESH-INTERVAL:P3D
CALSCALE:GREGORIAN
BEGIN:VEVENT
DTSTART:20110615T143000Z
DTEND:20110615T193000Z
X-MICROSOFT-CDO-ALLDAYEVENT:FALSE
SUMMARY:Event at Armstrong Financial Services\, Inc.
DESCRIPTION:Armstrong Financial Services is proud to announce our 8th sponsorship of a Bonfils Blood Drive.\n\n\n\nEach blood donation can save up to 3 lives\, and we are thrilled to be part of such an important effort to keep the blood bank supply in Colorado sufficient to operate.\n\n\n\nBonfils parks their bus in our parking lot\, and their team of professionals administer the entire process.\n\n\n\nCall Steve or Greg to set up an appointment.  303-650-4656.\n\n\n\nLocation is 8778 Wolff Court\, Westminster Co 80031
X-ALT-DESC;FMTTYPE=text/html:<span style="font-family: verdana"><span style="font-size: 14px"><strong>Armstrong Financial Services is proud to announce our 8th sponsorship of a Bonfils Blood Drive.</strong><br />\n<br />\nEach blood donation can save up to 3 lives\, and we are thrilled to be part of such an important effort to keep the blood bank supply in Colorado sufficient to operate.<br />\n<br />\nBonfils parks their bus in our parking lot\, and their team of professionals administer the entire process.<br />\n<br />\nCall Steve or Greg to set up an appointment.&nbsp\; 303-650-4656.<br />\n<br />\nLocation is 8778 Wolff Court\, Westminster Co 80031</span></span>
LOCATION:8778 Wolff Court\, Westminster 80031
UID:e.641.1503
SEQUENCE:3
DTSTAMP:20260420T075945Z
URL:http://business.broomfieldchamber.com/events/details/event-at-armstrong-financial-services-inc-06-15-2011-1503
END:VEVENT

END:VCALENDAR
