BEGIN:VCALENDAR
VERSION:2.0
PRODID:-//ChamberMaster//Event Calendar 2.0//EN
METHOD:PUBLISH
X-PUBLISHED-TTL:P3D
REFRESH-INTERVAL:P3D
CALSCALE:GREGORIAN
BEGIN:VEVENT
DTSTART:20100420T220000Z
DTEND:20100421T010000Z
X-MICROSOFT-CDO-ALLDAYEVENT:FALSE
SUMMARY:Event at Aspen Arbor Animal Hospital
DESCRIPTION:Aspen Arbor Animal Hospital hosts grand opening of new Broomfield facility!\n\n\n\nIn its typical tried and true\, family-friendly style\, Aspen Arbor Animal Hospital (AAAH) is hosting a grand opening celebration and dedication of its new\, state-of-the-art facility from 4-7 p.m. on Tuesday\, April 20 at 8865 W. 116th Circle\, Broomfield\, CO 80021. The event\, open to the public\, will include light refreshments\, door prizes\, giveaways\, tours and AAAH?s warm and welcoming signature reception. At 5:45 p.m.\, a special dedication will be held outside the building honoring E. Hadley Stuart\, Jr.\, a long-time friend of AAAH. (Attendees are asked to leave their pets at home.)\n\nThe grand opening celebration will include tours of AAAH?s new facility\, comprised of 7\,700 square feet of modern\, contemporary and comfortable space and four exam and treatment rooms outfitted with cutting edge equipment including digital x-ray and ultrasound machines\, anesthetic monitoring and complete laboratory. The hospital also will showcase its luxury kennels\, geriatric boarding and private consultation/grieving room. \n\nIn addition to the usual fanfare\, Kinsco\, a public safety equipment company\, will provide tours of BART (Big Animal Rescue Truck)\, an 82-foot semi that provides disaster relief for animals\; Canine Rehabilitation   and other giveaways\, prizes and activities will be planned.
X-ALT-DESC;FMTTYPE=text/html:Aspen Arbor Animal Hospital hosts grand opening of new Broomfield facility!\n<br>\n<br>In its typical tried and true\, family-friendly style\, Aspen Arbor Animal Hospital (AAAH) is hosting a grand opening celebration and dedication of its new\, state-of-the-art facility from 4-7 p.m. on Tuesday\, April 20 at 8865 W. 116th Circle\, Broomfield\, CO 80021. The event\, open to the public\, will include light refreshments\, door prizes\, giveaways\, tours and AAAH?s warm and welcoming signature reception. At 5:45 p.m.\, a special dedication will be held outside the building honoring E. Hadley Stuart\, Jr.\, a long-time friend of AAAH. (Attendees are asked to leave their pets at home.)\n<br>The grand opening celebration will include tours of AAAH?s new facility\, comprised of 7\,700 square feet of modern\, contemporary and comfortable space and four exam and treatment rooms outfitted with cutting edge equipment including digital x-ray and ultrasound machines\, anesthetic monitoring and complete laboratory. The hospital also will showcase its luxury kennels\, geriatric boarding and private consultation/grieving room. \n<br>In addition to the usual fanfare\, Kinsco\, a public safety equipment company\, will provide tours of BART (Big Animal Rescue Truck)\, an 82-foot semi that provides disaster relief for animals\; Canine Rehabilitation & Conditioning Group (CRCG) will illustrate their services and offerings\; and other giveaways\, prizes and activities will be planned. \n<br>
LOCATION:8865 W 116th Circle\, Broomfield CO\, 80021
UID:e.641.1028
SEQUENCE:3
DTSTAMP:20260421T040910Z
URL:http://business.broomfieldchamber.com/events/details/event-at-aspen-arbor-animal-hospital-04-20-2010-1028
END:VEVENT

END:VCALENDAR
