BEGIN:VCALENDAR
VERSION:2.0
PRODID:-//ChamberMaster//Event Calendar 2.0//EN
METHOD:PUBLISH
X-PUBLISHED-TTL:P3D
REFRESH-INTERVAL:P3D
CALSCALE:GREGORIAN
BEGIN:VEVENT
DTSTART:20110306T003000Z
DTEND:20110306T070000Z
X-MICROSOFT-CDO-ALLDAYEVENT:FALSE
SUMMARY:Event at Bal Swan Children's Center
DESCRIPTION:Bal Swan Ball\, Please join us for\n\nBroomfield's Longest Standing Black Tie Event\n\nAuctions\, dinner\, dancing and fun!\n\nSupport children with special needs and children with typical needs in your community by attending this year Ball!
X-ALT-DESC;FMTTYPE=text/html:Bal Swan Ball\, Please join us for\n<br>Broomfield's Longest Standing Black Tie Event\n<br>Auctions\, dinner\, dancing and fun!\n<br>Support children with special needs and children with typical needs in your community by attending this year Ball!
LOCATION:OMNI
UID:e.641.1056
SEQUENCE:3
DTSTAMP:20260420T111038Z
URL:http://business.broomfieldchamber.com/events/details/event-at-bal-swan-children-s-center-03-05-2011-1056
END:VEVENT

END:VCALENDAR
