BEGIN:VCALENDAR
VERSION:2.0
PRODID:-//ChamberMaster//Event Calendar 2.0//EN
METHOD:PUBLISH
X-PUBLISHED-TTL:P3D
REFRESH-INTERVAL:P3D
CALSCALE:GREGORIAN
BEGIN:VEVENT
DTSTART;VALUE=DATE:20100625
DTEND;VALUE=DATE:20100626
TRANSP:TRANSPARENT
X-MICROSOFT-CDO-ALLDAYEVENT:TRUE
SUMMARY:Event at Bal Swan Children's Center
DESCRIPTION:Golf 4 Kidz\nDrive one home for our Bal Swan kids at Golf 4 Kidz
X-ALT-DESC;FMTTYPE=text/html:Golf 4 Kidz\nDrive one home for our Bal Swan kids at Golf 4 Kidz
LOCATION:The Broadlands
UID:e.641.1055
SEQUENCE:3
DTSTAMP:20260421T023747Z
URL:http://business.broomfieldchamber.com/events/details/event-at-bal-swan-children-s-center-06-25-2010-1055
END:VEVENT

END:VCALENDAR
