BEGIN:VCALENDAR
VERSION:2.0
PRODID:-//ChamberMaster//Event Calendar 2.0//EN
METHOD:PUBLISH
X-PUBLISHED-TTL:P3D
REFRESH-INTERVAL:P3D
CALSCALE:GREGORIAN
BEGIN:VEVENT
DTSTART:20110709T210000Z
DTEND:20110710T020000Z
X-MICROSOFT-CDO-ALLDAYEVENT:FALSE
SUMMARY:Event at Ballet Nouveau Colorado
DESCRIPTION:Celebrate dance at Ballet Nouveau Colorado (BNC) at an Open House on Saturday\, July 9 (3pm-5pm). The BNC Open House will include: dance demonstrations and mini-workshops\, free food\, fun games\, crafts\, face painting\, drawings to win prizes and much more. Children and adults that sign up for Summer or Fall dance classes at the Open House receive free registration\, a $25 value. This offer is only valid for new students. This portion of the event will culminate with the opportunity to join our flash mob taught by BNC's Associate Artistic Director Dawn Fay.\n\nThen\, get your groove on at BNC's Disco Dance Off! (5pm-8pm)\n\nThere are two ways to participate -- collect sponsorship pledges or pay to enter the dance party. Then\, dance the night away during this competition and FUN-draiser event. Extra points will be awarded for costume\, shoes\, make-up\, hair\, and\, of course\, crazy dance moves. All dance participants will enjoy snacks\, prizes and great music to boogie down! Adult admission fee is $10 and children under 18 years of age admission fee is $20. Don't forget if you get pledges admission is free!\n\nDate: Sat. July 9th\n\nTime: 3pm-8pm\n\nCost: 3pm-5pm Open House (FREE)\n\n5pm-8pm Disco Dance Off Party(Children 18 and under: $20 Adults: $10 Or admission is free if participant is collecting pledges to compete)\n\nWho's Invited: Family Friendly Event- open to all ages
X-ALT-DESC;FMTTYPE=text/html:Celebrate dance at Ballet Nouveau Colorado (BNC) at an Open House on Saturday\, July 9 (3pm-5pm). The BNC Open House will include: dance demonstrations and mini-workshops\, free food\, fun games\, crafts\, face painting\, drawings to win prizes and much more. Children and adults that sign up for Summer or Fall dance classes at the Open House receive free registration\, a $25 value. This offer is only valid for new students. This portion of the event will culminate with the opportunity to join our flash mob taught by BNC&rsquo\;s Associate Artistic Director Dawn Fay.<br />\nThen\, get your groove on at BNC&rsquo\;s Disco Dance Off! (5pm-8pm)<br />\nThere are two ways to participate -- collect sponsorship pledges or pay to enter the dance party. Then\, dance the night away during this competition and FUN-draiser event. Extra points will be awarded for costume\, shoes\, make-up\, hair\, and\, of course\, crazy dance moves. All dance participants will enjoy snacks\, prizes and great music to boogie down! Adult admission fee is $10 and children under 18 years of age admission fee is $20. Don&rsquo\;t forget if you get pledges admission is free!<br />\nDate: Sat. July 9th<br />\nTime: 3pm-8pm<br />\nCost: 3pm-5pm Open House (FREE)<br />\n5pm-8pm Disco Dance Off Party(Children 18 and under: $20 Adults: $10 Or admission is free if participant is collecting pledges to compete)<br />\nWho&rsquo\;s Invited: Family Friendly Event- open to all ages 
LOCATION:BNC?s Studios 3001 Industrial Lane\, #12 Broomfield\, 80020
UID:e.641.1492
SEQUENCE:3
DTSTAMP:20260420T063751Z
URL:http://business.broomfieldchamber.com/events/details/event-at-ballet-nouveau-colorado-07-09-2011-1492
END:VEVENT

END:VCALENDAR
