BEGIN:VCALENDAR
VERSION:2.0
PRODID:-//ChamberMaster//Event Calendar 2.0//EN
METHOD:PUBLISH
X-PUBLISHED-TTL:P3D
REFRESH-INTERVAL:P3D
CALSCALE:GREGORIAN
BEGIN:VEVENT
DTSTART;VALUE=DATE:20100501
DTEND;VALUE=DATE:20100502
TRANSP:TRANSPARENT
X-MICROSOFT-CDO-ALLDAYEVENT:TRUE
SUMMARY:Event at Bell's Extra-Ordinary Gift Baskets
DESCRIPTION:Website fundraiser for a no kill animal rescue in Colorado.  10% of all sales from the website www.extra-ordinarygiftbaskets.com on May 1st will be donated to Hope For Animals-Clear Creek Rescue (www.hfaccr.org)
X-ALT-DESC;FMTTYPE=text/html:Website fundraiser for a no kill animal rescue in Colorado.  10% of all sales from the website www.extra-ordinarygiftbaskets.com on May 1st will be donated to Hope For Animals-Clear Creek Rescue (www.hfaccr.org)
LOCATION:Website - www.extra-ordinarygiftbaskets.com
UID:e.641.1049
SEQUENCE:3
DTSTAMP:20260421T022755Z
URL:http://business.broomfieldchamber.com/events/details/event-at-bell-s-extra-ordinary-gift-baskets-05-01-2010-1049
END:VEVENT

END:VCALENDAR
