BEGIN:VCALENDAR
VERSION:2.0
PRODID:-//ChamberMaster//Event Calendar 2.0//EN
METHOD:PUBLISH
X-PUBLISHED-TTL:P3D
REFRESH-INTERVAL:P3D
CALSCALE:GREGORIAN
BEGIN:VEVENT
DTSTART:20101106T180000Z
DTEND:20101108T000000Z
X-MICROSOFT-CDO-ALLDAYEVENT:FALSE
SUMMARY:Event at Bell's Extra-Ordinary Gift Baskets
DESCRIPTION:The Holiday Harvest at the First Bank Event Center in Broomfield.  A high end gift show with all your Holiday needs.  Bell's Extra-Ordinary Gift Baskets will be there taking Christmas orders for gifts and selling candies and gift baskets. \n\n\n\n It is Saturday Nov 6 from noon to 7pm and Sunday Nov 7 from noon to 5 pm.  I have 18 free passes to give away to the first 18 people that call or email me at 720-255-8812 or jenbell33@earthlink.net\n\n\n\nProceeds to benefit the children's charities of the Optimist Clubs
X-ALT-DESC;FMTTYPE=text/html:The Holiday Harvest at the First Bank Event Center in Broomfield.  A high end gift show with all your Holiday needs.  Bell's Extra-Ordinary Gift Baskets will be there taking Christmas orders for gifts and selling candies and gift baskets. \n<br>\n<br> It is Saturday Nov 6 from noon to 7pm and Sunday Nov 7 from noon to 5 pm.  I have 18 free passes to give away to the first 18 people that call or email me at 720-255-8812 or jenbell33@earthlink.net\n<br>\n<br>Proceeds to benefit the children's charities of the Optimist Clubs
LOCATION:Firs Bank Even Center in Broomfield - 11450 Broomfield Lane Broomfield\, CO
UID:e.641.1227
SEQUENCE:3
DTSTAMP:20260420T173057Z
URL:http://business.broomfieldchamber.com/events/details/event-at-bell-s-extra-ordinary-gift-baskets-11-06-2010-1227
END:VEVENT

END:VCALENDAR
