BEGIN:VCALENDAR
VERSION:2.0
PRODID:-//ChamberMaster//Event Calendar 2.0//EN
METHOD:PUBLISH
X-PUBLISHED-TTL:P3D
REFRESH-INTERVAL:P3D
CALSCALE:GREGORIAN
BEGIN:VEVENT
DTSTART:20100508T013000Z
DTEND:20100508T033000Z
X-MICROSOFT-CDO-ALLDAYEVENT:FALSE
SUMMARY:Event at Boulder Chamber Orchestra
DESCRIPTION:"Symphonic Frolic" All Beethoven Concert. \n\nClassical Music Concert.
X-ALT-DESC;FMTTYPE=text/html:"Symphonic Frolic" All Beethoven Concert. \n<br>Classical Music Concert.
LOCATION:Broomfield Auditorium
UID:e.641.1052
SEQUENCE:3
DTSTAMP:20260421T022924Z
URL:http://business.broomfieldchamber.com/events/details/event-at-boulder-chamber-orchestra-05-07-2010-1052
END:VEVENT

END:VCALENDAR
