BEGIN:VCALENDAR
VERSION:2.0
PRODID:-//ChamberMaster//Event Calendar 2.0//EN
METHOD:PUBLISH
X-PUBLISHED-TTL:P3D
REFRESH-INTERVAL:P3D
CALSCALE:GREGORIAN
BEGIN:VEVENT
DTSTART:20100616T010000Z
DTEND:20100616T023000Z
X-MICROSOFT-CDO-ALLDAYEVENT:FALSE
SUMMARY:Event at Capital Asset Group\, LLC
DESCRIPTION:An informative event designed to help you bring added value to the knowledge you bring to your clients in the business financial arena.  Topics include: building business credit without personal guarantees\, personal asset protection\, how important is a relationship with your business banker\,  and can your credibility as a business owner benefit you in the business loan approval process? \n\n\n\nWine\, Cheese and Appetizers will be served
X-ALT-DESC;FMTTYPE=text/html:An informative event designed to help you bring added value to the knowledge you bring to your clients in the business financial arena.  Topics include: building business credit without personal guarantees\, personal asset protection\, how important is a relationship with your business banker\,  and can your credibility as a business owner benefit you in the business loan approval process? \n<br>\n<br>Wine\, Cheese and Appetizers will be served
LOCATION:Bank of the West (Conference Room) 1795 E. Bridge St. Brighton\, CO 80601
UID:e.641.1096
SEQUENCE:3
DTSTAMP:20260421T010208Z
URL:http://business.broomfieldchamber.com/events/details/event-at-capital-asset-group-llc-06-15-2010-1096
END:VEVENT

END:VCALENDAR
