BEGIN:VCALENDAR
VERSION:2.0
PRODID:-//ChamberMaster//Event Calendar 2.0//EN
METHOD:PUBLISH
X-PUBLISHED-TTL:P3D
REFRESH-INTERVAL:P3D
CALSCALE:GREGORIAN
BEGIN:VEVENT
DTSTART;VALUE=DATE:20110929
DTEND;VALUE=DATE:20111002
TRANSP:TRANSPARENT
X-MICROSOFT-CDO-ALLDAYEVENT:TRUE
SUMMARY:Event at Coldwater Creek / One Day Sale.
DESCRIPTION:Coldwater Creek is having a THREE DAY SALE on THURSDAY\, SEPTEMBER 29TH THRU OCTOBER 1st. \n\n30% off the entire store. \n\nCome in and see our beautiful fall line.
X-ALT-DESC;FMTTYPE=text/html:<span style="color: #800080"><span style="font-size: 16px"><strong>Coldwater Creek </strong></span>is having a&nbsp\;THREE<span style="font-size: 16px"><strong> DAY SALE </strong></span>on&nbsp\;<span style="font-size: 16px"><strong>THURSDAY\, SEPTEMBER 29TH THRU OCTOBER 1st</strong></span>.&nbsp\;<br />\n<span style="font-size: 16px"><strong>30%</strong></span> off the entire store.&nbsp\;<br />\n<span style="font-size: 16px"><strong>Come in and see our beautiful fall line.</strong></span></span>
LOCATION:1 W. Flatiron Cir.\, #2156 Broomfield\, co 80021
UID:e.641.3054
SEQUENCE:3
DTSTAMP:20260420T010022Z
URL:http://business.broomfieldchamber.com/events/details/event-at-coldwater-creek-one-day-sale-09-29-2011-3054
END:VEVENT

END:VCALENDAR
