BEGIN:VCALENDAR
VERSION:2.0
PRODID:-//ChamberMaster//Event Calendar 2.0//EN
METHOD:PUBLISH
X-PUBLISHED-TTL:P3D
REFRESH-INTERVAL:P3D
CALSCALE:GREGORIAN
BEGIN:VEVENT
DTSTART;VALUE=DATE:20110212
DTEND;VALUE=DATE:20110213
TRANSP:TRANSPARENT
X-MICROSOFT-CDO-ALLDAYEVENT:TRUE
SUMMARY:Event at Curves for Women
DESCRIPTION:Open House for friends and families of Broomfield\n\n\n\nCome in and check out the Curves Curcuit with Zumba Fitness. \n\n\n\nThe event is Free to everyone.
X-ALT-DESC;FMTTYPE=text/html:<span style="font-size: 14px">Open House for friends and families of Broomfield</span><br />\n<br />\n<strong><span style="font-size: 16px">Come in and check out the Curves Curcuit with Zumba Fitness. </span><br />\n<br />\n<span style="font-size: 14px">The event is Free to everyone.</span></strong>
LOCATION:Curves for Women 6590 W. 120th Ave\, Suite B3 Broomfield\, CO 80020
UID:e.641.1327
SEQUENCE:3
DTSTAMP:20260420T130103Z
URL:http://business.broomfieldchamber.com/events/details/event-at-curves-for-women-02-12-2011-1327
END:VEVENT

END:VCALENDAR
