BEGIN:VCALENDAR
VERSION:2.0
PRODID:-//ChamberMaster//Event Calendar 2.0//EN
METHOD:PUBLISH
X-PUBLISHED-TTL:P3D
REFRESH-INTERVAL:P3D
CALSCALE:GREGORIAN
BEGIN:VEVENT
DTSTART:20120306T190000Z
DTEND:20120410T190000Z
X-MICROSOFT-CDO-ALLDAYEVENT:FALSE
SUMMARY:Event at Custom Made Fitness\, LLC
DESCRIPTION:Personal Training in a group setting. Come and have fun and bring a friend! 6 people to a class! No machines! We use balls\, weights\, discs\, BOSU!
X-ALT-DESC;FMTTYPE=text/html:Personal Training in a group setting. Come and have fun and bring a friend! 6 people to a class! No machines! We use balls\, weights\, discs\, BOSU!
LOCATION:Custom Made Fitness\, 8120 Sheridan Blvd\, Suite A-102\, Westminster\, CO 80030. Bring a towel and water
UID:e.641.3497
SEQUENCE:3
DTSTAMP:20260419T162438Z
URL:http://business.broomfieldchamber.com/events/details/event-at-custom-made-fitness-llc-03-06-2012-3497
END:VEVENT

END:VCALENDAR
