BEGIN:VCALENDAR
VERSION:2.0
PRODID:-//ChamberMaster//Event Calendar 2.0//EN
METHOD:PUBLISH
X-PUBLISHED-TTL:P3D
REFRESH-INTERVAL:P3D
CALSCALE:GREGORIAN
BEGIN:VEVENT
DTSTART:20100505T170000Z
DTEND:20100506T050000Z
X-MICROSOFT-CDO-ALLDAYEVENT:FALSE
SUMMARY:Event at Fat Cats Fun Center
DESCRIPTION:Cinco de Mayo Fiesta ALL DAY\n\n$6.00 cover with $1.00 Games $1.00 Shoes\n\nBuild Your Owm Taco Buffet ONLY 55 cents per taco!\n\n$10.00 Corona & Corona Lt. Buckets $2.00 Margarita Pitchers $1.00 Off all Tequilas\n\n$1.55 Chips & Salsa
X-ALT-DESC;FMTTYPE=text/html:Cinco de Mayo Fiesta ALL DAY\n<br>$6.00 cover with $1.00 Games $1.00 Shoes\n<br>Build Your Owm Taco Buffet ONLY 55 cents per taco!\n<br>$10.00 Corona &amp\; Corona Lt. Buckets $2.00 Margarita Pitchers $1.00 Off all Tequilas\n<br>$1.55 Chips &amp\; Salsa
LOCATION:10685 Westminster Blvd. Westminster CO 80020
UID:e.641.1061
SEQUENCE:3
DTSTAMP:20260421T023542Z
URL:http://business.broomfieldchamber.com/events/details/event-at-fat-cats-fun-center-05-05-2010-1061
END:VEVENT

END:VCALENDAR
