BEGIN:VCALENDAR
VERSION:2.0
PRODID:-//ChamberMaster//Event Calendar 2.0//EN
METHOD:PUBLISH
X-PUBLISHED-TTL:P3D
REFRESH-INTERVAL:P3D
CALSCALE:GREGORIAN
BEGIN:VEVENT
DTSTART:20120317T180000Z
DTEND:20120317T220000Z
X-MICROSOFT-CDO-ALLDAYEVENT:FALSE
SUMMARY:Event at Golden Bear Bikes
DESCRIPTION:Grand Re-Opening\n\n	March 17\, 12 pm to 4 pm\n\n	\n\n	4 Hour Hot Deals\n\n	30% to 50% OFF\n\n	 ALL PRIOR YEAR MODEL BIKES\n\n	25% to 70% OFF \n\n	APPAREL\n\n	15% OFF \n\n	ALL ACCESSORIES\n\n	10% OFF \n\n	ALL 2012 MODEL BIKES
X-ALT-DESC;FMTTYPE=text/html:<p style="text-align: center">\n	<span style="font-size: 26px"><strong><span style="font-family: verdana">Grand Re-Opening</span></strong></span></p>\n<p style="text-align: center">\n	<span style="font-size: 24px"><span style="font-family: verdana">March 17\, 12 pm to 4 pm<br />\n	<br />\n	<span style="color: #ff0000"><strong>4 Hour Hot Deals</strong></span></span></span></p>\n<p style="text-align: center">\n	<span style="font-size: 24px"><span style="font-family: verdana"><span style="font-size: 18px"><strong>30% to 50%&nbsp\;OFF<br />\n	&nbsp\;</strong>ALL PRIOR YEAR MODEL BIKES</span></span></span></p>\n<p style="text-align: center">\n	<span style="font-size: 24px"><span style="font-family: verdana"><span style="font-size: 18px"><strong>25% to 70% OFF </strong><br />\n	APPAREL</span></span></span></p>\n<p style="text-align: center">\n	<span style="font-size: 24px"><span style="font-family: verdana"><span style="font-size: 18px"><strong>15%&nbsp\;OFF </strong><br />\n	ALL ACCESSORIES</span></span></span></p>\n<p style="text-align: center">\n	<span style="font-size: 24px"><span style="font-family: verdana"><span style="font-size: 18px"><strong>10%&nbsp\;OFF </strong><br />\n	ALL 2012 MODEL BIKES</span></span></span></p>\n
LOCATION:290 Nickel St. Suite 100 Broomfield\, CO. 80020
UID:e.641.3900
SEQUENCE:3
DTSTAMP:20260419T175301Z
URL:http://business.broomfieldchamber.com/events/details/event-at-golden-bear-bikes-03-17-2012-3900
END:VEVENT

END:VCALENDAR
