BEGIN:VCALENDAR
VERSION:2.0
PRODID:-//ChamberMaster//Event Calendar 2.0//EN
METHOD:PUBLISH
X-PUBLISHED-TTL:P3D
REFRESH-INTERVAL:P3D
CALSCALE:GREGORIAN
BEGIN:VEVENT
DTSTART:20110317T000000Z
DTEND:20110317T030000Z
X-MICROSOFT-CDO-ALLDAYEVENT:FALSE
SUMMARY:Event at Golden Bear Bikes-- Ladies Night Out
DESCRIPTION:Ladies Night Out\n\n\n\nThe staff of Golden Bear Bikes invites you to our 1st Ladies Night Out\n\n\n\nMarch 16th From 6-9pm\n\n\n\nEnjoy food\, prizes\, fashion show\, maintenance demos\, and lots of fun and laughter! \n\n\n\nThe event is FREE\, but seating is limited so reserve yours today by emailing us at\n\nlisa@goldenbearbikes.com or calling 303-469-7273
X-ALT-DESC;FMTTYPE=text/html:<span style="font-size: 18px"><span style="color: #ff0000"><strong>Ladies Night Out</strong></span></span><br />\n<br />\n<em><strong><span style="font-size: 16px">The staff of Golden Bear Bikes invites you to our 1st Ladies Night Out<br />\n<br />\nMarch 16th From 6-9pm</span></strong></em><br />\n<br />\n<strong><span style="color: #ff0000">Enjoy food\, prizes\, fashion show\, maintenance demos\, and lots of fun and laughter! </span><br />\n<br />\nThe event is FREE\, but seating is limited so reserve yours today by emailing&nbsp\;us at<br />\n<a href="mailto:lisa@goldenbearbikes.com">lisa@goldenbearbikes.com</a> or calling 303-469-7273</strong>
LOCATION:At the Store 290 Nickel St. Ste 100 Broomfield CO 80020
UID:e.641.1350
SEQUENCE:3
DTSTAMP:20260420T111039Z
URL:http://business.broomfieldchamber.com/events/details/event-at-golden-bear-bikes-ladies-night-out-03-16-2011-1350
END:VEVENT

END:VCALENDAR
