BEGIN:VCALENDAR
VERSION:2.0
PRODID:-//ChamberMaster//Event Calendar 2.0//EN
METHOD:PUBLISH
X-PUBLISHED-TTL:P3D
REFRESH-INTERVAL:P3D
CALSCALE:GREGORIAN
BEGIN:VEVENT
DTSTART:20110127T013000Z
DTEND:20110127T023000Z
X-MICROSOFT-CDO-ALLDAYEVENT:FALSE
SUMMARY:Event at Highland Trail - Retirement Community
DESCRIPTION:VA Aid & Attendance Pension Seminar. Speaker David Anthoy form AAWV will show you how war-time veterans or their spouses may be eligible for $1056-$1949 per month to pay for their expenses in our retirement community!  Please RSVP as seating is limited.
X-ALT-DESC;FMTTYPE=text/html:VA Aid &amp\; Attendance Pension Seminar. Speaker David Anthoy form AAWV will show you how war-time veterans or their spouses may be eligible for $1056-$1949 per month to pay for their expenses in our retirement community!&nbsp\; Please RSVP as seating is limited.
LOCATION:5085 W. 136th Ave.\, Broomfield\, CO 80023 (Corner of Sheridan Blvd. & 136th).
UID:e.641.1302
SEQUENCE:3
DTSTAMP:20260420T144035Z
URL:http://business.broomfieldchamber.com/events/details/event-at-highland-trail-retirement-community-01-26-2011-1302
END:VEVENT

END:VCALENDAR
