BEGIN:VCALENDAR
VERSION:2.0
PRODID:-//ChamberMaster//Event Calendar 2.0//EN
METHOD:PUBLISH
X-PUBLISHED-TTL:P3D
REFRESH-INTERVAL:P3D
CALSCALE:GREGORIAN
BEGIN:VEVENT
DTSTART:20111029T220000Z
DTEND:20111030T000000Z
X-MICROSOFT-CDO-ALLDAYEVENT:FALSE
SUMMARY:Event at Huntington Learning Center
DESCRIPTION:Trick or Treating at Broomfield Plaza-Huntington Learning Center
X-ALT-DESC;FMTTYPE=text/html:<span style="font-size: 26px"><span style="color: #a52a2a"><span style="font-family: comic sans ms">Trick or Treating at Broomfield Plaza-Huntington Learning Center</span></span></span>
LOCATION:5127 W 120th Ave\, Broomfield Co 80020
UID:e.641.3057
SEQUENCE:3
DTSTAMP:20260420T005657Z
URL:http://business.broomfieldchamber.com/events/details/event-at-huntington-learning-center-10-29-2011-3057
END:VEVENT

END:VCALENDAR
