BEGIN:VCALENDAR
VERSION:2.0
PRODID:-//ChamberMaster//Event Calendar 2.0//EN
METHOD:PUBLISH
X-PUBLISHED-TTL:P3D
REFRESH-INTERVAL:P3D
CALSCALE:GREGORIAN
BEGIN:VEVENT
DTSTART;VALUE=DATE:20110408
DTEND;VALUE=DATE:20110411
TRANSP:TRANSPARENT
X-MICROSOFT-CDO-ALLDAYEVENT:TRUE
SUMMARY:Event at Little Britches\, LLC
DESCRIPTION:Join Little Britches Children's and Maternity resale store for their GRAND OPENING April 8th-10th.\n\n\n\nThere will be giveaways\, discounts on new and gently used items\, refreshments\, Jamba Juice\, kids coloring contest and more.\n\n\n\nBring in your gently used items to sell to us over this weekend and receive 50% back instead of normal 30%-40%!\n\n\n\nWe buy all seasons all year and we buy all day everyday...NO appointment necessary!
X-ALT-DESC;FMTTYPE=text/html:Join Little Britches Children's and Maternity resale store for their GRAND OPENING April 8th-10th.\n<br>\n<br>There will be giveaways\, discounts on new and gently used items\, refreshments\, Jamba Juice\, kids coloring contest and more.\n<br>\n<br>Bring in your gently used items to sell to us over this weekend and receive 50% back instead of normal 30%-40%!\n<br>\n<br>We buy all seasons all year and we buy all day everyday...NO appointment necessary!
LOCATION:11187 Sheridan Blvd Westminster\, Colorado 80020 At the corner of 112th and Sheridan Blvd
UID:e.641.1412
SEQUENCE:3
DTSTAMP:20260420T093150Z
URL:http://business.broomfieldchamber.com/events/details/event-at-little-britches-llc-04-08-2011-1412
END:VEVENT

END:VCALENDAR
