BEGIN:VCALENDAR
VERSION:2.0
PRODID:-//ChamberMaster//Event Calendar 2.0//EN
METHOD:PUBLISH
X-PUBLISHED-TTL:P3D
REFRESH-INTERVAL:P3D
CALSCALE:GREGORIAN
BEGIN:VEVENT
DTSTART:20101110T193000Z
DTEND:20101110T203000Z
X-MICROSOFT-CDO-ALLDAYEVENT:FALSE
SUMMARY:Event at Living Well\, LLC
DESCRIPTION:Please join us for a COMPLIMENTARY WEIGHT LOSS SEMINAR. You are going to learn how to get your body into FAT BURNING MODE and finally lose that excess weight and keep it off! Say "no" to fad diets--hear how you can revitalize your own metabolism. Want more energy\, better brain and to regain your vitality then you wont want to miss this seminar. Seating is limited\, so you must register by calling (303) 466-3232.
X-ALT-DESC;FMTTYPE=text/html:Please join us for a COMPLIMENTARY WEIGHT LOSS SEMINAR. You are going to learn how to get your body into FAT BURNING MODE and finally lose that excess weight and keep it off! Say "no" to fad diets--hear how you can revitalize your own metabolism. Want more energy\, better brain and to regain your vitality then you wont want to miss this seminar. Seating is limited\, so you must register by calling (303) 466-3232.
LOCATION:54 Garden Center Broomfield\, CO 80020. We're in with Summit Chiropractic. When you come into the Garden Center\, follow the driveway to the back. We're an independent one-story brick building.
UID:e.641.1224
SEQUENCE:3
DTSTAMP:20260420T190607Z
URL:http://business.broomfieldchamber.com/events/details/event-at-living-well-llc-11-10-2010-1224
END:VEVENT

END:VCALENDAR
