BEGIN:VCALENDAR
VERSION:2.0
PRODID:-//ChamberMaster//Event Calendar 2.0//EN
METHOD:PUBLISH
X-PUBLISHED-TTL:P3D
REFRESH-INTERVAL:P3D
CALSCALE:GREGORIAN
BEGIN:VEVENT
DTSTART:20101211T160000Z
DTEND:20101211T170000Z
X-MICROSOFT-CDO-ALLDAYEVENT:FALSE
SUMMARY:Event at Living Well\, LLC
DESCRIPTION:Are you thinking about avoiding HOLIDAY WEIGHT GAIN and REACHING YOUR GOALS for the New Year?\n\nPlease join us for a COMPLIMENTARY WEIGHT LOSS SEMINAR. You are going to learn how to get your body into FAT BURNING MODE and finally lose that excess weight and keep it off! Say "no" to fad diets--hear how you can revitalize your own metabolism. Want more energy\, better brain and to regain your vitality then you wont want to miss this seminar. Seating is limited\, so you must register by calling (303) 466-3232.
X-ALT-DESC;FMTTYPE=text/html:Are you thinking about avoiding HOLIDAY WEIGHT GAIN and REACHING YOUR GOALS for the New Year?\n<br>Please join us for a COMPLIMENTARY WEIGHT LOSS SEMINAR. You are going to learn how to get your body into FAT BURNING MODE and finally lose that excess weight and keep it off! Say "no" to fad diets--hear how you can revitalize your own metabolism. Want more energy\, better brain and to regain your vitality then you wont want to miss this seminar. Seating is limited\, so you must register by calling (303) 466-3232.
LOCATION:54 Garden Center Broomfield\, CO 80020. We're in with Summit Chiropractic. When you come into the Garden Center\, follow the driveway to the back. We're an independent one-story brick building.
UID:e.641.1225
SEQUENCE:3
DTSTAMP:20260420T173313Z
URL:http://business.broomfieldchamber.com/events/details/event-at-living-well-llc-12-11-2010-1225
END:VEVENT

END:VCALENDAR
