BEGIN:VCALENDAR
VERSION:2.0
PRODID:-//ChamberMaster//Event Calendar 2.0//EN
METHOD:PUBLISH
X-PUBLISHED-TTL:P3D
REFRESH-INTERVAL:P3D
CALSCALE:GREGORIAN
BEGIN:VEVENT
DTSTART;VALUE=DATE:20100612
DTEND;VALUE=DATE:20100613
TRANSP:TRANSPARENT
X-MICROSOFT-CDO-ALLDAYEVENT:TRUE
SUMMARY:Event at Maya's Home Care\, LLC
DESCRIPTION:Free services day
X-ALT-DESC;FMTTYPE=text/html:Free services day 
LOCATION:Nativity of our lord\, Catholic church
UID:e.641.1060
SEQUENCE:3
DTSTAMP:20260421T010206Z
URL:http://business.broomfieldchamber.com/events/details/event-at-maya-s-home-care-llc-06-12-2010-1060
END:VEVENT

END:VCALENDAR
