BEGIN:VCALENDAR
VERSION:2.0
PRODID:-//ChamberMaster//Event Calendar 2.0//EN
METHOD:PUBLISH
X-PUBLISHED-TTL:P3D
REFRESH-INTERVAL:P3D
CALSCALE:GREGORIAN
BEGIN:VEVENT
DTSTART:20120312T233000Z
DTEND:20120313T010000Z
X-MICROSOFT-CDO-ALLDAYEVENT:FALSE
SUMMARY:Event at Mountain High Appliance\, Inc.
DESCRIPTION:"Irish Pub Fare"\, by our own Executive Chef Deb Traylor. \n\nIn celebration of St. Patrick's Day\, be prepared with some festive dishes certain to tame your wild bunch!  The infamous Irish Lamb Stew along with a miniature Sheppard's Pie and Irish Soda Bread will kick off your evening.  The Irish love their potatoes and especially their Colcannon.  There's nothing like ending the evening with a Guinness Stout Ice Cream Float along with Stout Chocolate Cake.  You will swear you're in Ireland!
X-ALT-DESC;FMTTYPE=text/html:<span style="color: #006400"><span style="font-size: 14px"><span style="font-family: verdana"><strong>&quot\;Irish Pub Fare&quot\;\, </strong>by our own <strong>Executive Chef Deb Traylor</strong>.&nbsp\;<br />\nIn celebration of St. Patrick&#39\;s Day\, be prepared with some festive dishes certain to tame your wild bunch!&nbsp\; The infamous Irish Lamb Stew along with a miniature Sheppard&#39\;s Pie and Irish Soda Bread will kick off your evening.&nbsp\; The Irish love their potatoes and especially their Colcannon.&nbsp\; There&#39\;s nothing like ending the evening with a Guinness Stout Ice Cream Float along with Stout Chocolate Cake.&nbsp\; <strong>You will swear you&#39\;re in Ireland!</strong></span></span></span>
LOCATION:1130 Pine St.\, Louisville\, co. 80027
UID:e.641.3489
SEQUENCE:3
DTSTAMP:20260419T193409Z
URL:http://business.broomfieldchamber.com/events/details/event-at-mountain-high-appliance-inc-03-12-2012-3489
END:VEVENT

END:VCALENDAR
