BEGIN:VCALENDAR
VERSION:2.0
PRODID:-//ChamberMaster//Event Calendar 2.0//EN
METHOD:PUBLISH
X-PUBLISHED-TTL:P3D
REFRESH-INTERVAL:P3D
CALSCALE:GREGORIAN
BEGIN:VEVENT
DTSTART:20100325T180000Z
DTEND:20100325T191500Z
X-MICROSOFT-CDO-ALLDAYEVENT:FALSE
SUMMARY:Event at Rocky Mountain Life Coaching\, LLC
DESCRIPTION:Ultimate Wellness through Active Goal Setting & Self Talk Brown Bag Seminar
X-ALT-DESC;FMTTYPE=text/html:Ultimate Wellness through Active Goal Setting &amp\; Self Talk Brown Bag Seminar
LOCATION:Rocky Mountain Life Coaching Offices 8753 Yates Dr Suite 200\, Westminster CO 80031 / 2nd Floor Conference Room
UID:e.641.474
SEQUENCE:3
DTSTAMP:20260421T055725Z
URL:http://business.broomfieldchamber.com/events/details/event-at-rocky-mountain-life-coaching-llc-03-25-2010-474
END:VEVENT

END:VCALENDAR
