BEGIN:VCALENDAR
VERSION:2.0
PRODID:-//ChamberMaster//Event Calendar 2.0//EN
METHOD:PUBLISH
X-PUBLISHED-TTL:P3D
REFRESH-INTERVAL:P3D
CALSCALE:GREGORIAN
BEGIN:VEVENT
DTSTART:20111228T013000Z
DTEND:20111228T013000Z
X-MICROSOFT-CDO-ALLDAYEVENT:FALSE
SUMMARY:Event at Rooter Scooty\, Inc.
DESCRIPTION:Powerful Powerpoint Presentation Tuesday December 27th at Impact Chiropractic. 9660 Ralston Road Arvada\, Co 80004.\n\n	Networking at 6:30 PM\n\n	Overview at 7 PM\n\n	Free to all guests!\n\n	This presentation is geared for those who would like to learn how they can save alot of money becoming a member of a huge network that spans the USA. The largest savings membership in the country.\n\n	In addition\, if you are a business owner\, you will learn how this huge network can benefit your personal business in a variety of ways.\n\n	Best of all\, by simply networking our program to those that you care about\, you can earn a secondary income that has the best compensation plan in the entire industry.\n\n	RSVP to Jim Wylie at 303-335-7266 or Stacey at 720-366-6629
X-ALT-DESC;FMTTYPE=text/html:<p>\n	Powerful Powerpoint Presentation Tuesday December 27th at Impact Chiropractic. 9660 Ralston Road Arvada\, Co 80004.<br />\n	Networking at 6:30 PM<br />\n	Overview at 7 PM<br />\n	Free to all guests!<br />\n	This presentation is geared for those who would like to learn how they can save alot of money becoming a member of a huge network that spans the USA. The largest savings membership in the country.<br />\n	In addition\, if you are a business owner\, you will learn how this huge network can benefit your personal business in a variety of ways.<br />\n	Best of all\, by simply networking our program to those that you care about\, you can earn a secondary income that has the best compensation plan in the entire industry.<br />\n	RSVP to Jim Wylie at 303-335-7266 or Stacey at 720-366-6629</p>\n
LOCATION:Impact Chiropractic 9660 Ralston Road Arvada\, Co 80004
UID:e.641.3160
SEQUENCE:3
DTSTAMP:20260419T222935Z
URL:http://business.broomfieldchamber.com/events/details/event-at-rooter-scooty-inc-12-27-2011-3160
END:VEVENT

END:VCALENDAR
