BEGIN:VCALENDAR
VERSION:2.0
PRODID:-//ChamberMaster//Event Calendar 2.0//EN
METHOD:PUBLISH
X-PUBLISHED-TTL:P3D
REFRESH-INTERVAL:P3D
CALSCALE:GREGORIAN
BEGIN:VEVENT
DTSTART:20111230T180000Z
DTEND:20111230T193000Z
X-MICROSOFT-CDO-ALLDAYEVENT:FALSE
SUMMARY:Event at Rooter Scooty\, Inc.
DESCRIPTION:Join us this Friday at an awesome networking event during which you will learn how to increase revenue and decrease overhead while advertising your business to a huge new loyal customer base!
X-ALT-DESC;FMTTYPE=text/html:Join us this Friday at an awesome networking event during which you will learn how to increase revenue and decrease overhead while advertising your business to a huge new loyal customer base!
LOCATION:DiCicco's Italian Restaurant 5660 Olde Wadsworth Boulevard Arvada\, 80004.
UID:e.641.3161
SEQUENCE:3
DTSTAMP:20260419T233837Z
URL:http://business.broomfieldchamber.com/events/details/event-at-rooter-scooty-inc-12-30-2011-3161
END:VEVENT

END:VCALENDAR
