BEGIN:VCALENDAR
VERSION:2.0
PRODID:-//ChamberMaster//Event Calendar 2.0//EN
METHOD:PUBLISH
X-PUBLISHED-TTL:P3D
REFRESH-INTERVAL:P3D
CALSCALE:GREGORIAN
BEGIN:VEVENT
DTSTART;VALUE=DATE:20110319
DTEND;VALUE=DATE:20110321
TRANSP:TRANSPARENT
X-MICROSOFT-CDO-ALLDAYEVENT:TRUE
SUMMARY:Event at Sunrise of Westminster
DESCRIPTION:Sunrise Spring Tour of Home & Gardens
X-ALT-DESC;FMTTYPE=text/html:Sunrise Spring Tour of Home &amp\; Gardens
LOCATION:Sunrise of Westminster
UID:e.641.1371
SEQUENCE:3
DTSTAMP:20260420T111049Z
URL:http://business.broomfieldchamber.com/events/details/event-at-sunrise-of-westminster-03-19-2011-1371
END:VEVENT

END:VCALENDAR
