BEGIN:VCALENDAR
VERSION:2.0
PRODID:-//ChamberMaster//Event Calendar 2.0//EN
METHOD:PUBLISH
X-PUBLISHED-TTL:P3D
REFRESH-INTERVAL:P3D
CALSCALE:GREGORIAN
BEGIN:VEVENT
DTSTART:20110311T180000Z
DTEND:20110311T200000Z
X-MICROSOFT-CDO-ALLDAYEVENT:FALSE
SUMMARY:Event at The Interpersonal Healing Clinic
DESCRIPTION:The Interpersonal Healing Clinic is having an open house!!!  We formally invite you to stop in and see our home.  \n\n\n\nWe offer individual\, couples\, family and group counseling to the community with the use of a variety of alternative therapies such as massage\, Reike\, and music/art therapy. The IHC's mission is to guide individuals\, families\, couples and communities to find and utilize their strengths\, transition through change\, achieve goals and overcome life challenges with the use of a holistic\, caring and relational approach to healing the mind\, body and spirit.  \n\n\n\nThis open house is an opportunity for you to come enjoy some yummy food\, learn about what the IHC has to offer\, and commune with us!  We look forward to seeing you!
X-ALT-DESC;FMTTYPE=text/html:The Interpersonal Healing Clinic is having an open house!!!  We formally invite you to stop in and see our home.  \n<br>\n<br>We offer individual\, couples\, family and group counseling to the community with the use of a variety of alternative therapies such as massage\, Reike\, and music/art therapy. The IHC's mission is to guide individuals\, families\, couples and communities to find and utilize their strengths\, transition through change\, achieve goals and overcome life challenges with the use of a holistic\, caring and relational approach to healing the mind\, body and spirit.  \n<br>\n<br>This open house is an opportunity for you to come enjoy some yummy food\, learn about what the IHC has to offer\, and commune with us!  We look forward to seeing you!
LOCATION:1006 Depot Hill Rd.\, Ste D and E Broomfield\, CO 80020
UID:e.641.1356
SEQUENCE:3
DTSTAMP:20260420T110749Z
URL:http://business.broomfieldchamber.com/events/details/event-at-the-interpersonal-healing-clinic-03-11-2011-1356
END:VEVENT

END:VCALENDAR
