BEGIN:VCALENDAR
VERSION:2.0
PRODID:-//ChamberMaster//Event Calendar 2.0//EN
METHOD:PUBLISH
X-PUBLISHED-TTL:P3D
REFRESH-INTERVAL:P3D
CALSCALE:GREGORIAN
BEGIN:VEVENT
DTSTART:20100415T173000Z
DTEND:20100415T190000Z
X-MICROSOFT-CDO-ALLDAYEVENT:FALSE
SUMMARY:Event at The Stratford at Flatirons
DESCRIPTION:Sally Allen\, founder of A Place for Everything LLC\, presents useful tips for practical right-sizing through interactive discussions\, followed by a luncheon.  The presentation is especially helpful for families facing the challenge of moving parents from their longtime homes or for empty nesters moving to a more simplified lifestyle.
X-ALT-DESC;FMTTYPE=text/html:Sally Allen\, founder of A Place for Everything LLC\, presents useful tips for practical right-sizing through interactive discussions\, followed by a luncheon.  The presentation is especially helpful for families facing the challenge of moving parents from their longtime homes or for empty nesters moving to a more simplified lifestyle.
LOCATION:400 Summit Boulevard Broomfield\, CO
UID:e.641.604
SEQUENCE:3
DTSTAMP:20260421T040735Z
URL:http://business.broomfieldchamber.com/events/details/event-at-the-stratford-at-flatirons-04-15-2010-604
END:VEVENT

END:VCALENDAR
