BEGIN:VCALENDAR
VERSION:2.0
PRODID:-//ChamberMaster//Event Calendar 2.0//EN
METHOD:PUBLISH
X-PUBLISHED-TTL:P3D
REFRESH-INTERVAL:P3D
CALSCALE:GREGORIAN
BEGIN:VEVENT
DTSTART:20100416T160000Z
DTEND:20100416T180000Z
X-MICROSOFT-CDO-ALLDAYEVENT:FALSE
SUMMARY:Event at The Stratford at Flatirons
DESCRIPTION:Active Minds presents Iran & Global Nuclear Proliferation - an in-depth look at the country of Iran.  They will cover Iranian history as well as the turmoil over Iran's last presidential election.  They will discuss the relationship between Iran's religious and political leadership and the thorny issue of Iran's nuclear program.  In particular\, they will discuss how the rest of the world is reponding to the various challenges presented by Iran.
X-ALT-DESC;FMTTYPE=text/html:Active Minds presents Iran &amp\; Global Nuclear Proliferation - an in-depth look at the country of Iran.  They will cover Iranian history as well as the turmoil over Iran's last presidential election.  They will discuss the relationship between Iran's religious and political leadership and the thorny issue of Iran's nuclear program.  In particular\, they will discuss how the rest of the world is reponding to the various challenges presented by Iran.
LOCATION:400 Summit Boulevard Broomfield\, CO 80021
UID:e.641.602
SEQUENCE:3
DTSTAMP:20260421T040733Z
URL:http://business.broomfieldchamber.com/events/details/event-at-the-stratford-at-flatirons-04-16-2010-602
END:VEVENT

END:VCALENDAR
